BEGIN:VCALENDAR
VERSION:2.0
PRODID:-//Shining Starz Dance Studio - ECPv6.15.20//NONSGML v1.0//EN
CALSCALE:GREGORIAN
METHOD:PUBLISH
X-WR-CALNAME:Shining Starz Dance Studio
X-ORIGINAL-URL:https://shiningstarz.org
X-WR-CALDESC:Events for Shining Starz Dance Studio
REFRESH-INTERVAL;VALUE=DURATION:PT1H
X-Robots-Tag:noindex
X-PUBLISHED-TTL:PT1H
BEGIN:VTIMEZONE
TZID:America/Chicago
BEGIN:DAYLIGHT
TZOFFSETFROM:-0600
TZOFFSETTO:-0500
TZNAME:CDT
DTSTART:20230312T080000
END:DAYLIGHT
BEGIN:STANDARD
TZOFFSETFROM:-0500
TZOFFSETTO:-0600
TZNAME:CST
DTSTART:20231105T070000
END:STANDARD
BEGIN:DAYLIGHT
TZOFFSETFROM:-0600
TZOFFSETTO:-0500
TZNAME:CDT
DTSTART:20240310T080000
END:DAYLIGHT
BEGIN:STANDARD
TZOFFSETFROM:-0500
TZOFFSETTO:-0600
TZNAME:CST
DTSTART:20241103T070000
END:STANDARD
BEGIN:DAYLIGHT
TZOFFSETFROM:-0600
TZOFFSETTO:-0500
TZNAME:CDT
DTSTART:20250309T080000
END:DAYLIGHT
BEGIN:STANDARD
TZOFFSETFROM:-0500
TZOFFSETTO:-0600
TZNAME:CST
DTSTART:20251102T070000
END:STANDARD
END:VTIMEZONE
BEGIN:VEVENT
DTSTART;VALUE=DATE:20240601
DTEND;VALUE=DATE:20240602
DTSTAMP:20260421T045308
CREATED:20230626T161234Z
LAST-MODIFIED:20230626T163125Z
UID:10000074-1717200000-1717286399@shiningstarz.org
SUMMARY:Annual Recital Performances
DESCRIPTION:at FSSD PAC
URL:https://shiningstarz.org/event/annual-recital-performances-2/
CATEGORIES:Company/Team,Studio Happenings
END:VEVENT
BEGIN:VEVENT
DTSTART;TZID=America/Chicago:20240603T093000
DTEND;TZID=America/Chicago:20240606T121500
DTSTAMP:20260421T045308
CREATED:20240514T214053Z
LAST-MODIFIED:20240514T214053Z
UID:10000082-1717407000-1717676100@shiningstarz.org
SUMMARY:Kingdom Dance Camp
DESCRIPTION:Kingdom Dance Camp is a great way to get your 3 year old through rising 1st grader moving this summer. Dancers will enjoy a fun-filled week as we dance & tumble\, play dress up\, share snack time\, create fun crafts and learn about the Kingdom of God as we journey through stories of Kings and Queens of the Bible. This drop off program is great for independent students to keep moving throughout the summer. Looking for more camps? Each of our camps for this age group have a different theme\, great for creating a longer summer experience! Dancers need to be fully potty trained to participate in camp. \n  \nCamp is Monday to Thursday 9:30-12:15 \n  \n*A snack and juice will be provided each day of camp. Students with food allergies will need to bring their own snack and drink from home. \n  \nSpace is limited for each camp.
URL:https://shiningstarz.org/event/kingdom-dance-camp/
LOCATION:454 Downs Blvd #120\, Franklin\, TN 37064\, USA
CATEGORIES:Summer
ATTACH;FMTTYPE=image/png:https://shiningstarz.org/wp-content/uploads/2024/05/Screenshot2024-02-02at112037PM.png
END:VEVENT
BEGIN:VEVENT
DTSTART;TZID=America/Chicago:20240604T130000
DTEND;TZID=America/Chicago:20240604T150000
DTSTAMP:20260421T045308
CREATED:20240514T215458Z
LAST-MODIFIED:20240514T215730Z
UID:10000100-1717506000-1717513200@shiningstarz.org
SUMMARY:Acrobatic Arts Training Camp
DESCRIPTION:CAMP (A) \nAcro Level 1-4 Mini-Mester \n5 Week Mini-Mester \nTuesday/Thursday \nJune 4\,6\,11\,13\,25\,27 & July 2\,9\,11 – 1:00-2:00 \nOur Acro Mini-Mester is a great way to help your dancer to keep up their Acrobatic Arts Training over the Summer. This 5 week session is great for the experienced acro dance student that has mastered a minimum of a level 1 Card\, up to mastery/completion of the level 4 card. Student must have previous Acrobatic arts experience to participate in this session. \nMastery of Level 1 Card required to attend this Mini Mester \n  \nCAMP (B) \nAcro Level 5+ Mini Mester \n5 Week Mini-Mester \nTuesday/Thursday \nJune 4\,6\,11\,13\,25\,27 & July 2\,9\,11 – 2:00-3:00 \nOur Acro Mini-Mester is a great way to help your dancer to keep up their Acrobatic Arts Training over the Summer. This 5 week session is great for the experienced acro dance student that has mastered a minimum of a level  Card\, up to mastery/completion of the level 5 card. Student must have previous Acrobatic arts experience to participate in this session. \nMastery of Level 5 Card required to attend this Mini Mester
URL:https://shiningstarz.org/event/acrobatic-arts-training-camp/2024-06-04/
LOCATION:454 Downs Blvd #120\, Franklin\, TN 37064\, USA
CATEGORIES:Summer
ATTACH;FMTTYPE=image/jpeg:https://shiningstarz.org/wp-content/uploads/2024/05/638425349929123933638122659387377229637833130870830640IMG2673.jpeg
END:VEVENT
BEGIN:VEVENT
DTSTART;TZID=America/Chicago:20240606T130000
DTEND;TZID=America/Chicago:20240606T150000
DTSTAMP:20260421T045308
CREATED:20240514T215458Z
LAST-MODIFIED:20240514T215730Z
UID:10000101-1717678800-1717686000@shiningstarz.org
SUMMARY:Acrobatic Arts Training Camp
DESCRIPTION:CAMP (A) \nAcro Level 1-4 Mini-Mester \n5 Week Mini-Mester \nTuesday/Thursday \nJune 4\,6\,11\,13\,25\,27 & July 2\,9\,11 – 1:00-2:00 \nOur Acro Mini-Mester is a great way to help your dancer to keep up their Acrobatic Arts Training over the Summer. This 5 week session is great for the experienced acro dance student that has mastered a minimum of a level 1 Card\, up to mastery/completion of the level 4 card. Student must have previous Acrobatic arts experience to participate in this session. \nMastery of Level 1 Card required to attend this Mini Mester \n  \nCAMP (B) \nAcro Level 5+ Mini Mester \n5 Week Mini-Mester \nTuesday/Thursday \nJune 4\,6\,11\,13\,25\,27 & July 2\,9\,11 – 2:00-3:00 \nOur Acro Mini-Mester is a great way to help your dancer to keep up their Acrobatic Arts Training over the Summer. This 5 week session is great for the experienced acro dance student that has mastered a minimum of a level  Card\, up to mastery/completion of the level 5 card. Student must have previous Acrobatic arts experience to participate in this session. \nMastery of Level 5 Card required to attend this Mini Mester
URL:https://shiningstarz.org/event/acrobatic-arts-training-camp/2024-06-06/
LOCATION:454 Downs Blvd #120\, Franklin\, TN 37064\, USA
CATEGORIES:Summer
ATTACH;FMTTYPE=image/jpeg:https://shiningstarz.org/wp-content/uploads/2024/05/638425349929123933638122659387377229637833130870830640IMG2673.jpeg
END:VEVENT
BEGIN:VEVENT
DTSTART;TZID=America/Chicago:20240611T130000
DTEND;TZID=America/Chicago:20240611T150000
DTSTAMP:20260421T045308
CREATED:20240514T215458Z
LAST-MODIFIED:20240514T215730Z
UID:10000102-1718110800-1718118000@shiningstarz.org
SUMMARY:Acrobatic Arts Training Camp
DESCRIPTION:CAMP (A) \nAcro Level 1-4 Mini-Mester \n5 Week Mini-Mester \nTuesday/Thursday \nJune 4\,6\,11\,13\,25\,27 & July 2\,9\,11 – 1:00-2:00 \nOur Acro Mini-Mester is a great way to help your dancer to keep up their Acrobatic Arts Training over the Summer. This 5 week session is great for the experienced acro dance student that has mastered a minimum of a level 1 Card\, up to mastery/completion of the level 4 card. Student must have previous Acrobatic arts experience to participate in this session. \nMastery of Level 1 Card required to attend this Mini Mester \n  \nCAMP (B) \nAcro Level 5+ Mini Mester \n5 Week Mini-Mester \nTuesday/Thursday \nJune 4\,6\,11\,13\,25\,27 & July 2\,9\,11 – 2:00-3:00 \nOur Acro Mini-Mester is a great way to help your dancer to keep up their Acrobatic Arts Training over the Summer. This 5 week session is great for the experienced acro dance student that has mastered a minimum of a level  Card\, up to mastery/completion of the level 5 card. Student must have previous Acrobatic arts experience to participate in this session. \nMastery of Level 5 Card required to attend this Mini Mester
URL:https://shiningstarz.org/event/acrobatic-arts-training-camp/2024-06-11/
LOCATION:454 Downs Blvd #120\, Franklin\, TN 37064\, USA
CATEGORIES:Summer
ATTACH;FMTTYPE=image/jpeg:https://shiningstarz.org/wp-content/uploads/2024/05/638425349929123933638122659387377229637833130870830640IMG2673.jpeg
END:VEVENT
BEGIN:VEVENT
DTSTART;TZID=America/Chicago:20240613T130000
DTEND;TZID=America/Chicago:20240613T150000
DTSTAMP:20260421T045308
CREATED:20240514T215458Z
LAST-MODIFIED:20240514T215730Z
UID:10000103-1718283600-1718290800@shiningstarz.org
SUMMARY:Acrobatic Arts Training Camp
DESCRIPTION:CAMP (A) \nAcro Level 1-4 Mini-Mester \n5 Week Mini-Mester \nTuesday/Thursday \nJune 4\,6\,11\,13\,25\,27 & July 2\,9\,11 – 1:00-2:00 \nOur Acro Mini-Mester is a great way to help your dancer to keep up their Acrobatic Arts Training over the Summer. This 5 week session is great for the experienced acro dance student that has mastered a minimum of a level 1 Card\, up to mastery/completion of the level 4 card. Student must have previous Acrobatic arts experience to participate in this session. \nMastery of Level 1 Card required to attend this Mini Mester \n  \nCAMP (B) \nAcro Level 5+ Mini Mester \n5 Week Mini-Mester \nTuesday/Thursday \nJune 4\,6\,11\,13\,25\,27 & July 2\,9\,11 – 2:00-3:00 \nOur Acro Mini-Mester is a great way to help your dancer to keep up their Acrobatic Arts Training over the Summer. This 5 week session is great for the experienced acro dance student that has mastered a minimum of a level  Card\, up to mastery/completion of the level 5 card. Student must have previous Acrobatic arts experience to participate in this session. \nMastery of Level 5 Card required to attend this Mini Mester
URL:https://shiningstarz.org/event/acrobatic-arts-training-camp/2024-06-13/
LOCATION:454 Downs Blvd #120\, Franklin\, TN 37064\, USA
CATEGORIES:Summer
ATTACH;FMTTYPE=image/jpeg:https://shiningstarz.org/wp-content/uploads/2024/05/638425349929123933638122659387377229637833130870830640IMG2673.jpeg
END:VEVENT
BEGIN:VEVENT
DTSTART;TZID=America/Chicago:20240617T000000
DTEND;TZID=America/Chicago:20240621T235900
DTSTAMP:20260421T045308
CREATED:20230626T161234Z
LAST-MODIFIED:20230905T191631Z
UID:10000075-1718582400-1719014340@shiningstarz.org
SUMMARY:Imagine Dance Championships
DESCRIPTION:ALL solos\, duos\, and groups are invited
URL:https://shiningstarz.org/event/imagine-dance-championships/
CATEGORIES:Company/Team
END:VEVENT
BEGIN:VEVENT
DTSTART;TZID=America/Chicago:20240624T093000
DTEND;TZID=America/Chicago:20240627T121500
DTSTAMP:20260421T045308
CREATED:20240514T214500Z
LAST-MODIFIED:20240514T214500Z
UID:10000083-1719221400-1719490500@shiningstarz.org
SUMMARY:Freedom Dance Camp
DESCRIPTION:Freedom Dance Camp is a great way to get your 3 year old through rising 1st grader moving this summer. Dancers will enjoy a fun filled week as we dance & tumble\, play dress up\, share snack time\, create fun crafts as we celebrate Freedom Jesus brings to our life! This camp will encourage students to use their freedom of expression and creativity that God placed inside each of them. This drop off program is great for independent students to keep moving throughout the summer. Looking for more camps? Each of our camps for this age group have a different theme\, great for creating a longer summer experience! Dancers need to be fully potty trained to participate in camp. \n  \nCamp is Monday to Thursday 9:30-12:15 \n  \n*A snack and juice will be provided each day of camp. Students with food allergies will need to bring their own snack and drink from home. \n  \nSpace is limited for each camp.
URL:https://shiningstarz.org/event/freedom-dance-camp/
LOCATION:454 Downs Blvd #120\, Franklin\, TN 37064\, USA
CATEGORIES:Summer
ATTACH;FMTTYPE=image/png:https://shiningstarz.org/wp-content/uploads/2024/05/Screenshot2024-02-02at115421PM.png
END:VEVENT
BEGIN:VEVENT
DTSTART;TZID=America/Chicago:20240625T130000
DTEND;TZID=America/Chicago:20240625T150000
DTSTAMP:20260421T045308
CREATED:20240514T215458Z
LAST-MODIFIED:20240514T215730Z
UID:10000104-1719320400-1719327600@shiningstarz.org
SUMMARY:Acrobatic Arts Training Camp
DESCRIPTION:CAMP (A) \nAcro Level 1-4 Mini-Mester \n5 Week Mini-Mester \nTuesday/Thursday \nJune 4\,6\,11\,13\,25\,27 & July 2\,9\,11 – 1:00-2:00 \nOur Acro Mini-Mester is a great way to help your dancer to keep up their Acrobatic Arts Training over the Summer. This 5 week session is great for the experienced acro dance student that has mastered a minimum of a level 1 Card\, up to mastery/completion of the level 4 card. Student must have previous Acrobatic arts experience to participate in this session. \nMastery of Level 1 Card required to attend this Mini Mester \n  \nCAMP (B) \nAcro Level 5+ Mini Mester \n5 Week Mini-Mester \nTuesday/Thursday \nJune 4\,6\,11\,13\,25\,27 & July 2\,9\,11 – 2:00-3:00 \nOur Acro Mini-Mester is a great way to help your dancer to keep up their Acrobatic Arts Training over the Summer. This 5 week session is great for the experienced acro dance student that has mastered a minimum of a level  Card\, up to mastery/completion of the level 5 card. Student must have previous Acrobatic arts experience to participate in this session. \nMastery of Level 5 Card required to attend this Mini Mester
URL:https://shiningstarz.org/event/acrobatic-arts-training-camp/2024-06-25/
LOCATION:454 Downs Blvd #120\, Franklin\, TN 37064\, USA
CATEGORIES:Summer
ATTACH;FMTTYPE=image/jpeg:https://shiningstarz.org/wp-content/uploads/2024/05/638425349929123933638122659387377229637833130870830640IMG2673.jpeg
END:VEVENT
BEGIN:VEVENT
DTSTART;TZID=America/Chicago:20240627T130000
DTEND;TZID=America/Chicago:20240627T150000
DTSTAMP:20260421T045308
CREATED:20240514T215458Z
LAST-MODIFIED:20240514T215730Z
UID:10000105-1719493200-1719500400@shiningstarz.org
SUMMARY:Acrobatic Arts Training Camp
DESCRIPTION:CAMP (A) \nAcro Level 1-4 Mini-Mester \n5 Week Mini-Mester \nTuesday/Thursday \nJune 4\,6\,11\,13\,25\,27 & July 2\,9\,11 – 1:00-2:00 \nOur Acro Mini-Mester is a great way to help your dancer to keep up their Acrobatic Arts Training over the Summer. This 5 week session is great for the experienced acro dance student that has mastered a minimum of a level 1 Card\, up to mastery/completion of the level 4 card. Student must have previous Acrobatic arts experience to participate in this session. \nMastery of Level 1 Card required to attend this Mini Mester \n  \nCAMP (B) \nAcro Level 5+ Mini Mester \n5 Week Mini-Mester \nTuesday/Thursday \nJune 4\,6\,11\,13\,25\,27 & July 2\,9\,11 – 2:00-3:00 \nOur Acro Mini-Mester is a great way to help your dancer to keep up their Acrobatic Arts Training over the Summer. This 5 week session is great for the experienced acro dance student that has mastered a minimum of a level  Card\, up to mastery/completion of the level 5 card. Student must have previous Acrobatic arts experience to participate in this session. \nMastery of Level 5 Card required to attend this Mini Mester
URL:https://shiningstarz.org/event/acrobatic-arts-training-camp/2024-06-27/
LOCATION:454 Downs Blvd #120\, Franklin\, TN 37064\, USA
CATEGORIES:Summer
ATTACH;FMTTYPE=image/jpeg:https://shiningstarz.org/wp-content/uploads/2024/05/638425349929123933638122659387377229637833130870830640IMG2673.jpeg
END:VEVENT
END:VCALENDAR