BEGIN:VCALENDAR
VERSION:2.0
PRODID:-//Shining Starz Dance Studio - ECPv6.15.20//NONSGML v1.0//EN
CALSCALE:GREGORIAN
METHOD:PUBLISH
X-WR-CALNAME:Shining Starz Dance Studio
X-ORIGINAL-URL:https://shiningstarz.org
X-WR-CALDESC:Events for Shining Starz Dance Studio
REFRESH-INTERVAL;VALUE=DURATION:PT1H
X-Robots-Tag:noindex
X-PUBLISHED-TTL:PT1H
BEGIN:VTIMEZONE
TZID:America/Chicago
BEGIN:DAYLIGHT
TZOFFSETFROM:-0600
TZOFFSETTO:-0500
TZNAME:CDT
DTSTART:20220313T080000
END:DAYLIGHT
BEGIN:STANDARD
TZOFFSETFROM:-0500
TZOFFSETTO:-0600
TZNAME:CST
DTSTART:20221106T070000
END:STANDARD
BEGIN:DAYLIGHT
TZOFFSETFROM:-0600
TZOFFSETTO:-0500
TZNAME:CDT
DTSTART:20230312T080000
END:DAYLIGHT
BEGIN:STANDARD
TZOFFSETFROM:-0500
TZOFFSETTO:-0600
TZNAME:CST
DTSTART:20231105T070000
END:STANDARD
BEGIN:DAYLIGHT
TZOFFSETFROM:-0600
TZOFFSETTO:-0500
TZNAME:CDT
DTSTART:20240310T080000
END:DAYLIGHT
BEGIN:STANDARD
TZOFFSETFROM:-0500
TZOFFSETTO:-0600
TZNAME:CST
DTSTART:20241103T070000
END:STANDARD
END:VTIMEZONE
BEGIN:VEVENT
DTSTART;VALUE=DATE:20230529
DTEND;VALUE=DATE:20230530
DTSTAMP:20260421T050158
CREATED:20230220T231119Z
LAST-MODIFIED:20230220T231129Z
UID:10000029-1685318400-1685404799@shiningstarz.org
SUMMARY:Memorial Day (No Classes)
DESCRIPTION:The Studio will be closed this day
URL:https://shiningstarz.org/event/memorial-day-no-classes/
LOCATION:TN
CATEGORIES:Studio Happenings
END:VEVENT
BEGIN:VEVENT
DTSTART;TZID=America/Chicago:20230527T090000
DTEND;TZID=America/Chicago:20230527T100000
DTSTAMP:20260421T050158
CREATED:20230220T194400Z
LAST-MODIFIED:20230220T194400Z
UID:10000008-1685178000-1685181600@shiningstarz.org
SUMMARY:Daddy Daughter Dance Rehearsals
DESCRIPTION:Rehearsals are Saturdays May 6th\, 13th\, & 20th\, and 27th from 9-10. This is a great time to be with our daughters and hang out with other dads while learning some fun choreography. Dads will perform with their daughters in this year’s annual recital. You will not regret it! Cost of rehearsal also includes a commemorative daddy daughter t-shirt for you and your daughter. Additional t-shirts will be available upon request for a small fee. *Only one purchase is needed for dads with multiple daughters*
URL:https://shiningstarz.org/event/daddy-daughter-dance-rehearsals/2023-05-27/
LOCATION:Shining Starz Dance Studio\, 454 Downs Blvd Ste 120\, Franklin\, TN\, 37064\, United States
CATEGORIES:Recital
ATTACH;FMTTYPE=image/jpeg:https://shiningstarz.org/wp-content/uploads/2022/04/AdobeStock_203904456-scaled-e1650323874704.jpeg
END:VEVENT
BEGIN:VEVENT
DTSTART;TZID=America/Chicago:20230520T090000
DTEND;TZID=America/Chicago:20230520T100000
DTSTAMP:20260421T050158
CREATED:20230220T194400Z
LAST-MODIFIED:20230220T194400Z
UID:10000007-1684573200-1684576800@shiningstarz.org
SUMMARY:Daddy Daughter Dance Rehearsals
DESCRIPTION:Rehearsals are Saturdays May 6th\, 13th\, & 20th\, and 27th from 9-10. This is a great time to be with our daughters and hang out with other dads while learning some fun choreography. Dads will perform with their daughters in this year’s annual recital. You will not regret it! Cost of rehearsal also includes a commemorative daddy daughter t-shirt for you and your daughter. Additional t-shirts will be available upon request for a small fee. *Only one purchase is needed for dads with multiple daughters*
URL:https://shiningstarz.org/event/daddy-daughter-dance-rehearsals/2023-05-20/
LOCATION:Shining Starz Dance Studio\, 454 Downs Blvd Ste 120\, Franklin\, TN\, 37064\, United States
CATEGORIES:Recital
ATTACH;FMTTYPE=image/jpeg:https://shiningstarz.org/wp-content/uploads/2022/04/AdobeStock_203904456-scaled-e1650323874704.jpeg
END:VEVENT
BEGIN:VEVENT
DTSTART;TZID=America/Chicago:20230513T090000
DTEND;TZID=America/Chicago:20230513T100000
DTSTAMP:20260421T050158
CREATED:20230220T194400Z
LAST-MODIFIED:20230220T194400Z
UID:10000006-1683968400-1683972000@shiningstarz.org
SUMMARY:Daddy Daughter Dance Rehearsals
DESCRIPTION:Rehearsals are Saturdays May 6th\, 13th\, & 20th\, and 27th from 9-10. This is a great time to be with our daughters and hang out with other dads while learning some fun choreography. Dads will perform with their daughters in this year’s annual recital. You will not regret it! Cost of rehearsal also includes a commemorative daddy daughter t-shirt for you and your daughter. Additional t-shirts will be available upon request for a small fee. *Only one purchase is needed for dads with multiple daughters*
URL:https://shiningstarz.org/event/daddy-daughter-dance-rehearsals/2023-05-13/
LOCATION:Shining Starz Dance Studio\, 454 Downs Blvd Ste 120\, Franklin\, TN\, 37064\, United States
CATEGORIES:Recital
ATTACH;FMTTYPE=image/jpeg:https://shiningstarz.org/wp-content/uploads/2022/04/AdobeStock_203904456-scaled-e1650323874704.jpeg
END:VEVENT
BEGIN:VEVENT
DTSTART;TZID=America/Chicago:20230506T103000
DTEND;TZID=America/Chicago:20230506T160000
DTSTAMP:20260421T050158
CREATED:20230220T192448Z
LAST-MODIFIED:20230220T192448Z
UID:10000002-1683369000-1683388800@shiningstarz.org
SUMMARY:Shining Starz Dance Company Auditions
DESCRIPTION:Times to be released for specific age groups
URL:https://shiningstarz.org/event/shining-starz-dance-company-auditions/
LOCATION:Shining Starz Dance Studio\, 454 Downs Blvd Ste 120\, Franklin\, TN\, 37064\, United States
CATEGORIES:Company/Team
ATTACH;FMTTYPE=image/png:https://shiningstarz.org/wp-content/uploads/2023/02/Screenshot-2023-02-20-at-1.24.29-PM.png
END:VEVENT
BEGIN:VEVENT
DTSTART;TZID=America/Chicago:20230506T090000
DTEND;TZID=America/Chicago:20230506T100000
DTSTAMP:20260421T050158
CREATED:20230220T194400Z
LAST-MODIFIED:20230220T194400Z
UID:10000005-1683363600-1683367200@shiningstarz.org
SUMMARY:Daddy Daughter Dance Rehearsals
DESCRIPTION:Rehearsals are Saturdays May 6th\, 13th\, & 20th\, and 27th from 9-10. This is a great time to be with our daughters and hang out with other dads while learning some fun choreography. Dads will perform with their daughters in this year’s annual recital. You will not regret it! Cost of rehearsal also includes a commemorative daddy daughter t-shirt for you and your daughter. Additional t-shirts will be available upon request for a small fee. *Only one purchase is needed for dads with multiple daughters*
URL:https://shiningstarz.org/event/daddy-daughter-dance-rehearsals/2023-05-06/
LOCATION:Shining Starz Dance Studio\, 454 Downs Blvd Ste 120\, Franklin\, TN\, 37064\, United States
CATEGORIES:Recital
ATTACH;FMTTYPE=image/jpeg:https://shiningstarz.org/wp-content/uploads/2022/04/AdobeStock_203904456-scaled-e1650323874704.jpeg
END:VEVENT
BEGIN:VEVENT
DTSTART;VALUE=DATE:20230429
DTEND;VALUE=DATE:20230430
DTSTAMP:20260421T050158
CREATED:20230220T221005Z
LAST-MODIFIED:20230220T221005Z
UID:10000013-1682726400-1682812799@shiningstarz.org
SUMMARY:Audition Prep Mini-Mester
DESCRIPTION:Thinking about Company or Team this next season? This audition prep mini-master is a great way to start preparing for the upcoming Company Auditions
URL:https://shiningstarz.org/event/audition-prep-mini-mester/2023-04-29/
LOCATION:Shining Starz Dance Studio\, 454 Downs Blvd Ste 120\, Franklin\, TN\, 37064\, United States
CATEGORIES:Company/Team
ATTACH;FMTTYPE=image/png:https://shiningstarz.org/wp-content/uploads/2023/02/Screenshot-2023-02-20-at-1.24.29-PM.png
END:VEVENT
BEGIN:VEVENT
DTSTART;VALUE=DATE:20230424
DTEND;VALUE=DATE:20230429
DTSTAMP:20260421T050158
CREATED:20230220T220509Z
LAST-MODIFIED:20230220T220509Z
UID:10000010-1682294400-1682726399@shiningstarz.org
SUMMARY:Photo Week
DESCRIPTION:All studio classes will take photos during their regular class times this week
URL:https://shiningstarz.org/event/photo-week/
LOCATION:Shining Starz Dance Studio\, 454 Downs Blvd Ste 120\, Franklin\, TN\, 37064\, United States
CATEGORIES:Recital
ATTACH;FMTTYPE=image/jpeg:https://shiningstarz.org/wp-content/uploads/2023/02/AN8A9937-scaled.jpg
END:VEVENT
BEGIN:VEVENT
DTSTART;VALUE=DATE:20230422
DTEND;VALUE=DATE:20230423
DTSTAMP:20260421T050158
CREATED:20230220T221005Z
LAST-MODIFIED:20230220T221005Z
UID:10000012-1682121600-1682207999@shiningstarz.org
SUMMARY:Audition Prep Mini-Mester
DESCRIPTION:Thinking about Company or Team this next season? This audition prep mini-master is a great way to start preparing for the upcoming Company Auditions
URL:https://shiningstarz.org/event/audition-prep-mini-mester/2023-04-22/
LOCATION:Shining Starz Dance Studio\, 454 Downs Blvd Ste 120\, Franklin\, TN\, 37064\, United States
CATEGORIES:Company/Team
ATTACH;FMTTYPE=image/png:https://shiningstarz.org/wp-content/uploads/2023/02/Screenshot-2023-02-20-at-1.24.29-PM.png
END:VEVENT
BEGIN:VEVENT
DTSTART;VALUE=DATE:20230313
DTEND;VALUE=DATE:20230318
DTSTAMP:20260421T050158
CREATED:20230220T224326Z
LAST-MODIFIED:20230220T224326Z
UID:10000028-1678665600-1679097599@shiningstarz.org
SUMMARY:Spring Break (No Classes)
DESCRIPTION:Studio Closed this week
URL:https://shiningstarz.org/event/spring-break-no-classes/
LOCATION:Shining Starz Dance Studio\, 454 Downs Blvd Ste 120\, Franklin\, TN\, 37064\, United States
CATEGORIES:Studio Happenings
END:VEVENT
END:VCALENDAR