BEGIN:VCALENDAR
VERSION:2.0
PRODID:-//Shining Starz Dance Studio - ECPv6.15.20//NONSGML v1.0//EN
CALSCALE:GREGORIAN
METHOD:PUBLISH
X-ORIGINAL-URL:https://shiningstarz.org
X-WR-CALDESC:Events for Shining Starz Dance Studio
REFRESH-INTERVAL;VALUE=DURATION:PT1H
X-Robots-Tag:noindex
X-PUBLISHED-TTL:PT1H
BEGIN:VTIMEZONE
TZID:America/Chicago
BEGIN:DAYLIGHT
TZOFFSETFROM:-0600
TZOFFSETTO:-0500
TZNAME:CDT
DTSTART:20220313T080000
END:DAYLIGHT
BEGIN:STANDARD
TZOFFSETFROM:-0500
TZOFFSETTO:-0600
TZNAME:CST
DTSTART:20221106T070000
END:STANDARD
BEGIN:DAYLIGHT
TZOFFSETFROM:-0600
TZOFFSETTO:-0500
TZNAME:CDT
DTSTART:20230312T080000
END:DAYLIGHT
BEGIN:STANDARD
TZOFFSETFROM:-0500
TZOFFSETTO:-0600
TZNAME:CST
DTSTART:20231105T070000
END:STANDARD
BEGIN:DAYLIGHT
TZOFFSETFROM:-0600
TZOFFSETTO:-0500
TZNAME:CDT
DTSTART:20240310T080000
END:DAYLIGHT
BEGIN:STANDARD
TZOFFSETFROM:-0500
TZOFFSETTO:-0600
TZNAME:CST
DTSTART:20241103T070000
END:STANDARD
BEGIN:DAYLIGHT
TZOFFSETFROM:-0600
TZOFFSETTO:-0500
TZNAME:CDT
DTSTART:20250309T080000
END:DAYLIGHT
BEGIN:STANDARD
TZOFFSETFROM:-0500
TZOFFSETTO:-0600
TZNAME:CST
DTSTART:20251102T070000
END:STANDARD
BEGIN:DAYLIGHT
TZOFFSETFROM:-0600
TZOFFSETTO:-0500
TZNAME:CDT
DTSTART:20260308T080000
END:DAYLIGHT
BEGIN:STANDARD
TZOFFSETFROM:-0500
TZOFFSETTO:-0600
TZNAME:CST
DTSTART:20261101T070000
END:STANDARD
BEGIN:DAYLIGHT
TZOFFSETFROM:-0600
TZOFFSETTO:-0500
TZNAME:CDT
DTSTART:20270314T080000
END:DAYLIGHT
BEGIN:STANDARD
TZOFFSETFROM:-0500
TZOFFSETTO:-0600
TZNAME:CST
DTSTART:20271107T070000
END:STANDARD
END:VTIMEZONE
BEGIN:VEVENT
DTSTART;VALUE=DATE:20260309
DTEND;VALUE=DATE:20260315
DTSTAMP:20260420T054831
CREATED:20250721T192424Z
LAST-MODIFIED:20250721T192424Z
UID:10000128-1773014400-1773532799@shiningstarz.org
SUMMARY:Spring Break (No Classes)
DESCRIPTION:no classes this week
URL:https://shiningstarz.org/event/spring-break-no-classes-4/
CATEGORIES:Studio Happenings
END:VEVENT
BEGIN:VEVENT
DTSTART;VALUE=DATE:20260227
DTEND;VALUE=DATE:20260228
DTSTAMP:20260420T054831
CREATED:20260226T142824Z
LAST-MODIFIED:20260226T142824Z
UID:10000129-1772150400-1772236799@shiningstarz.org
SUMMARY:Studio Closed
DESCRIPTION:
URL:https://shiningstarz.org/event/studio-closed/
LOCATION:454 Downs Blvd #120\, Franklin\, TN 37064\, USA
CATEGORIES:Studio Happenings
END:VEVENT
BEGIN:VEVENT
DTSTART;VALUE=DATE:20260119
DTEND;VALUE=DATE:20260120
DTSTAMP:20260420T054831
CREATED:20250721T185031Z
LAST-MODIFIED:20250721T185031Z
UID:10000123-1768780800-1768867199@shiningstarz.org
SUMMARY:MLK Day (No Classes)
DESCRIPTION:Studio closed this day
URL:https://shiningstarz.org/event/mlk-day-no-classes-2/
CATEGORIES:Studio Happenings
END:VEVENT
BEGIN:VEVENT
DTSTART;VALUE=DATE:20260110
DTEND;VALUE=DATE:20260111
DTSTAMP:20260420T054831
CREATED:20230626T161231Z
LAST-MODIFIED:20250721T191317Z
UID:10000059-1768003200-1768089599@shiningstarz.org
SUMMARY:Company Kickoff 2026
DESCRIPTION:at FSSD PAC
URL:https://shiningstarz.org/event/company-kickoff-2026/
LOCATION:Franklin Special School Performing Arts Center\, 1030 Excellence Wy\, Franklin\, TN\, 37064\, United States
CATEGORIES:Company/Team,Studio Happenings
END:VEVENT
BEGIN:VEVENT
DTSTART;VALUE=DATE:20251215
DTEND;VALUE=DATE:20260105
DTSTAMP:20260420T054831
CREATED:20230626T161231Z
LAST-MODIFIED:20250721T190340Z
UID:10000057-1765756800-1767571199@shiningstarz.org
SUMMARY:Christmas Break (No Classes)
DESCRIPTION:studio closed these weeks
URL:https://shiningstarz.org/event/christmas-break-no-classes/
LOCATION:454 Downs Blvd #120\, Franklin\, TN 37064\, USA
CATEGORIES:Studio Happenings
END:VEVENT
BEGIN:VEVENT
DTSTART;VALUE=DATE:20251120
DTEND;VALUE=DATE:20251201
DTSTAMP:20260420T054831
CREATED:20250721T192213Z
LAST-MODIFIED:20251113T214320Z
UID:10000127-1763596800-1764547199@shiningstarz.org
SUMMARY:Thanksgiving Break (No Classes)
DESCRIPTION:no classes this week
URL:https://shiningstarz.org/event/thanksgiving-break-no-classes/
CATEGORIES:Studio Happenings
END:VEVENT
BEGIN:VEVENT
DTSTART;VALUE=DATE:20251031
DTEND;VALUE=DATE:20251101
DTSTAMP:20260420T054831
CREATED:20230626T152834Z
LAST-MODIFIED:20250721T190958Z
UID:10000039-1761868800-1761955199@shiningstarz.org
SUMMARY:October 31 (No Classes)
DESCRIPTION:studio closed this day
URL:https://shiningstarz.org/event/october-31-no-classes/
CATEGORIES:Studio Happenings
END:VEVENT
BEGIN:VEVENT
DTSTART;VALUE=DATE:20251006
DTEND;VALUE=DATE:20251011
DTSTAMP:20260420T054831
CREATED:20250721T191725Z
LAST-MODIFIED:20250721T191725Z
UID:10000126-1759708800-1760140799@shiningstarz.org
SUMMARY:Fall Break (No Classes)
DESCRIPTION:no classes this week
URL:https://shiningstarz.org/event/fall-break-no-classes-3/
CATEGORIES:Studio Happenings
END:VEVENT
BEGIN:VEVENT
DTSTART;VALUE=DATE:20250901
DTEND;VALUE=DATE:20250902
DTSTAMP:20260420T054831
CREATED:20250721T191524Z
LAST-MODIFIED:20250721T191524Z
UID:10000125-1756684800-1756771199@shiningstarz.org
SUMMARY:Labor Day (No Classes)
DESCRIPTION:No classes this day
URL:https://shiningstarz.org/event/labor-day-no-classes-3/
CATEGORIES:Studio Happenings
END:VEVENT
BEGIN:VEVENT
DTSTART;VALUE=DATE:20250811
DTEND;VALUE=DATE:20250812
DTSTAMP:20260420T054831
CREATED:20250721T185153Z
LAST-MODIFIED:20250721T185153Z
UID:10000124-1754870400-1754956799@shiningstarz.org
SUMMARY:First Day of Classes
DESCRIPTION:First day of classes for the 2025-26 Dance Season!
URL:https://shiningstarz.org/event/first-day-of-classes-2/
LOCATION:454 Downs Blvd #120\, Franklin\, TN 37064\, USA
CATEGORIES:Studio Happenings
ATTACH;FMTTYPE=image/png:https://shiningstarz.org/wp-content/uploads/2024/02/1095388_808r90rnir0r.png
END:VEVENT
BEGIN:VEVENT
DTSTART;VALUE=DATE:20250519
DTEND;VALUE=DATE:20250522
DTSTAMP:20260420T054831
CREATED:20240514T220819Z
LAST-MODIFIED:20240514T220819Z
UID:10000120-1747612800-1747871999@shiningstarz.org
SUMMARY:2024-25 Annual Recital
DESCRIPTION:For all Shining Starz Dance Studio students
URL:https://shiningstarz.org/event/2024-25-annual-recital/
LOCATION:Franklin Special School Performing Arts Center\, 1030 Excellence Wy\, Franklin\, TN\, 37064\, United States
CATEGORIES:Recital,Studio Happenings
END:VEVENT
BEGIN:VEVENT
DTSTART;VALUE=DATE:20250310
DTEND;VALUE=DATE:20250317
DTSTAMP:20260420T054831
CREATED:20250721T184913Z
LAST-MODIFIED:20250721T190205Z
UID:10000122-1741564800-1742169540@shiningstarz.org
SUMMARY:Spring Break (No Classes)
DESCRIPTION:studio closed this week
URL:https://shiningstarz.org/event/spring-break-no-classes-3/
LOCATION:454 Downs Blvd #120\, Franklin\, TN 37064\, USA
CATEGORIES:Studio Happenings
END:VEVENT
BEGIN:VEVENT
DTSTART;TZID=America/Chicago:20250310T000000
DTEND;TZID=America/Chicago:20250316T235900
DTSTAMP:20260420T054831
CREATED:20230626T161232Z
LAST-MODIFIED:20241028T194631Z
UID:10000064-1741564800-1742169540@shiningstarz.org
SUMMARY:Spring Break (No Classes)
DESCRIPTION:studio closed this week
URL:https://shiningstarz.org/event/spring-break-no-classes-2/
LOCATION:454 Downs Blvd #120\, Franklin\, TN 37064\, USA
CATEGORIES:Studio Happenings
END:VEVENT
BEGIN:VEVENT
DTSTART;VALUE=DATE:20250120
DTEND;VALUE=DATE:20250121
DTSTAMP:20260420T054831
CREATED:20230626T161231Z
LAST-MODIFIED:20241028T194801Z
UID:10000060-1737331200-1737417599@shiningstarz.org
SUMMARY:MLK Day (No Classes)
DESCRIPTION:Studio closed this day
URL:https://shiningstarz.org/event/mlk-day-no-classes/
CATEGORIES:Studio Happenings
END:VEVENT
BEGIN:VEVENT
DTSTART;VALUE=DATE:20241209
DTEND;VALUE=DATE:20241215
DTSTAMP:20260420T054831
CREATED:20230626T161230Z
LAST-MODIFIED:20250721T190509Z
UID:10000056-1733702400-1734220740@shiningstarz.org
SUMMARY:Parent Watch Week
DESCRIPTION:Performance week at Shining Starz for all recreational classes
URL:https://shiningstarz.org/event/parent-watch-week/
LOCATION:454 Downs Blvd #120\, Franklin\, TN 37064\, USA
CATEGORIES:Studio Happenings
END:VEVENT
BEGIN:VEVENT
DTSTART;VALUE=DATE:20241123
DTEND;VALUE=DATE:20241201
DTSTAMP:20260420T054831
CREATED:20230626T161230Z
LAST-MODIFIED:20250721T191913Z
UID:10000053-1732320000-1733011140@shiningstarz.org
SUMMARY:Thanksgiving (No Classes)
DESCRIPTION:studio closed this week
URL:https://shiningstarz.org/event/thanksgiving-no-classes/
LOCATION:454 Downs Blvd #120\, Franklin\, TN 37064\, USA
CATEGORIES:Studio Happenings
END:VEVENT
BEGIN:VEVENT
DTSTART;VALUE=DATE:20240812
DTEND;VALUE=DATE:20240813
DTSTAMP:20260420T054831
CREATED:20240514T220621Z
LAST-MODIFIED:20240514T220621Z
UID:10000119-1723420800-1723507199@shiningstarz.org
SUMMARY:First Day of Classes
DESCRIPTION:First day of classes for the 2024-25 Dance Season!
URL:https://shiningstarz.org/event/first-day-of-classes/
LOCATION:454 Downs Blvd #120\, Franklin\, TN 37064\, USA
CATEGORIES:Studio Happenings
ATTACH;FMTTYPE=image/png:https://shiningstarz.org/wp-content/uploads/2024/02/1095388_808r90rnir0r.png
END:VEVENT
BEGIN:VEVENT
DTSTART;VALUE=DATE:20240601
DTEND;VALUE=DATE:20240602
DTSTAMP:20260420T054831
CREATED:20230626T161234Z
LAST-MODIFIED:20230626T163125Z
UID:10000074-1717200000-1717286399@shiningstarz.org
SUMMARY:Annual Recital Performances
DESCRIPTION:at FSSD PAC
URL:https://shiningstarz.org/event/annual-recital-performances-2/
CATEGORIES:Company/Team,Studio Happenings
END:VEVENT
BEGIN:VEVENT
DTSTART;VALUE=DATE:20240531
DTEND;VALUE=DATE:20240601
DTSTAMP:20260420T054831
CREATED:20230626T161234Z
LAST-MODIFIED:20230626T163041Z
UID:10000073-1717113600-1717199999@shiningstarz.org
SUMMARY:Annual Recital Performances
DESCRIPTION:at the FSSD PAC
URL:https://shiningstarz.org/event/annual-recital-performances/
CATEGORIES:Company/Team,Studio Happenings
END:VEVENT
BEGIN:VEVENT
DTSTART;VALUE=DATE:20240530
DTEND;VALUE=DATE:20240531
DTSTAMP:20260420T054831
CREATED:20230626T161233Z
LAST-MODIFIED:20230626T163009Z
UID:10000072-1717027200-1717113599@shiningstarz.org
SUMMARY:Annual Recital Dress Rehearsal
DESCRIPTION:at the FSSD PAC
URL:https://shiningstarz.org/event/annual-recital-dress-rehearsal/
CATEGORIES:Company/Team,Studio Happenings
END:VEVENT
BEGIN:VEVENT
DTSTART;TZID=America/Chicago:20240528T173000
DTEND;TZID=America/Chicago:20240528T203000
DTSTAMP:20260420T054831
CREATED:20230626T161233Z
LAST-MODIFIED:20230626T161711Z
UID:10000071-1716917400-1716928200@shiningstarz.org
SUMMARY:Company End of Year Party
DESCRIPTION:All company families and students are invited to celebrate an amazing year!
URL:https://shiningstarz.org/event/company-end-of-year-party/
CATEGORIES:Company/Team,Studio Happenings
END:VEVENT
BEGIN:VEVENT
DTSTART;VALUE=DATE:20240521
DTEND;VALUE=DATE:20240526
DTSTAMP:20260420T054831
CREATED:20230626T162832Z
LAST-MODIFIED:20230626T162832Z
UID:10000076-1716249600-1716681599@shiningstarz.org
SUMMARY:Last Week of Classes
DESCRIPTION:this is the final week of classes before Recital
URL:https://shiningstarz.org/event/last-week-of-classes/
CATEGORIES:Studio Happenings
END:VEVENT
BEGIN:VEVENT
DTSTART;VALUE=DATE:20240427
DTEND;VALUE=DATE:20240428
DTSTAMP:20260420T054831
CREATED:20230626T161233Z
LAST-MODIFIED:20230626T162658Z
UID:10000069-1714176000-1714262399@shiningstarz.org
SUMMARY:Company Auditions 2024-25
DESCRIPTION:registration will begin April 1st
URL:https://shiningstarz.org/event/company-auditions-2024-25/
CATEGORIES:Company/Team,Studio Happenings
END:VEVENT
BEGIN:VEVENT
DTSTART;TZID=America/Chicago:20240325T000000
DTEND;TZID=America/Chicago:20240329T235900
DTSTAMP:20260420T054831
CREATED:20230626T161232Z
LAST-MODIFIED:20230626T161712Z
UID:10000065-1711324800-1711756740@shiningstarz.org
SUMMARY:Photo Week for ALL Classes\, Team\, and Company
DESCRIPTION:in studio photos
URL:https://shiningstarz.org/event/photo-week-for-all-classes-team-and-company/
CATEGORIES:Company/Team,Studio Happenings
END:VEVENT
BEGIN:VEVENT
DTSTART;VALUE=DATE:20231202
DTEND;VALUE=DATE:20231203
DTSTAMP:20260420T054831
CREATED:20230626T161230Z
LAST-MODIFIED:20230626T162323Z
UID:10000054-1701475200-1701561599@shiningstarz.org
SUMMARY:Franklin Christmas Parade
DESCRIPTION:This event is required for all SSDS Company Members and optional for Team and Recreational students
URL:https://shiningstarz.org/event/franklin-christmas-parade/
CATEGORIES:Studio Happenings
END:VEVENT
BEGIN:VEVENT
DTSTART;TZID=America/Chicago:20231117T000000
DTEND;TZID=America/Chicago:20231119T235900
DTSTAMP:20260420T054831
CREATED:20230626T161230Z
LAST-MODIFIED:20230626T161606Z
UID:10000052-1700179200-1700438340@shiningstarz.org
SUMMARY:Dance Revolution 2023-24
DESCRIPTION:At the Omni Championsgate.
URL:https://shiningstarz.org/event/dance-revolution-2023-24/
LOCATION:1500 Masters Blvd\, Championsgate\, FL 33896\, USA
CATEGORIES:Studio Happenings
END:VEVENT
BEGIN:VEVENT
DTSTART;TZID=America/Chicago:20231009T000000
DTEND;TZID=America/Chicago:20231013T000000
DTSTAMP:20260420T054831
CREATED:20230626T152833Z
LAST-MODIFIED:20230626T154509Z
UID:10000037-1696809600-1697155200@shiningstarz.org
SUMMARY:Fall Break (No Classes)
DESCRIPTION:studio closed this week
URL:https://shiningstarz.org/event/fall-break-no-classes/
CATEGORIES:Studio Happenings
END:VEVENT
BEGIN:VEVENT
DTSTART;VALUE=DATE:20230930
DTEND;VALUE=DATE:20231001
DTSTAMP:20260420T054831
CREATED:20230626T152833Z
LAST-MODIFIED:20230626T154843Z
UID:10000036-1696032000-1696118399@shiningstarz.org
SUMMARY:Costume Consignment Sale
DESCRIPTION:specifics to follow for drop-off and pickup\, volunteers\, and so forth but mark your calendars!
URL:https://shiningstarz.org/event/costume-consignment-sale/
CATEGORIES:Studio Happenings
END:VEVENT
BEGIN:VEVENT
DTSTART;VALUE=DATE:20230904
DTEND;VALUE=DATE:20230905
DTSTAMP:20260420T054831
CREATED:20230626T152828Z
LAST-MODIFIED:20230626T154759Z
UID:10000034-1693785600-1693871999@shiningstarz.org
SUMMARY:Labor Day (No Classes)
DESCRIPTION:studio closed this day
URL:https://shiningstarz.org/event/labor-day-no-classes/
CATEGORIES:Studio Happenings
END:VEVENT
BEGIN:VEVENT
DTSTART;VALUE=DATE:20230814
DTEND;VALUE=DATE:20230815
DTSTAMP:20260420T054831
CREATED:20230626T152828Z
LAST-MODIFIED:20230626T153259Z
UID:10000033-1691971200-1692057599@shiningstarz.org
SUMMARY:First Day of Dance
DESCRIPTION:All classes begin this week
URL:https://shiningstarz.org/event/first-day-of-dance/
LOCATION:Shining Starz Dance Studio\, 454 Downs Blvd Ste 120\, Franklin\, TN\, 37064\, United States
CATEGORIES:Company/Team,Studio Happenings
END:VEVENT
END:VCALENDAR